BEGIN:VCALENDAR
VERSION:2.0
PRODID:icalendar-ruby
CALSCALE:GREGORIAN
METHOD:PUBLISH
BEGIN:VEVENT
DTSTAMP:20260424T084407Z
UID:438b249e-c34f-4365-a065-e3f195be5250
DTSTART;VALUE=DATE:20250720
DTEND;VALUE=DATE:20250720
DESCRIPTION:Rusty Bowl BMX
LOCATION:1281 E Gobbi St  Ukiah CA 95482 USA
SUMMARY:Local Race Single
URL:/site/bmx_races/587765
END:VEVENT
END:VCALENDAR
