BEGIN:VCALENDAR
VERSION:2.0
PRODID:icalendar-ruby
CALSCALE:GREGORIAN
METHOD:PUBLISH
BEGIN:VEVENT
DTSTAMP:20260424T084405Z
UID:0b7085ae-6c6b-4873-9f84-68627560cbd0
DTSTART;VALUE=DATE:20250709
DTEND;VALUE=DATE:20250709
DESCRIPTION:Rusty Bowl BMX
LOCATION:1281 E Gobbi St  Ukiah CA 95482 USA
SUMMARY:Practice
URL:/site/bmx_races/587760
END:VEVENT
END:VCALENDAR
