BEGIN:VCALENDAR
VERSION:2.0
PRODID:icalendar-ruby
CALSCALE:GREGORIAN
METHOD:PUBLISH
BEGIN:VEVENT
DTSTAMP:20260424T131311Z
UID:4651b56b-8e25-457b-8aee-1ff810604095
DTSTART;VALUE=DATE:20250402
DTEND;VALUE=DATE:20250402
DESCRIPTION:Rusty Bowl BMX
LOCATION:1281 E Gobbi St  Ukiah CA 95482 USA
SUMMARY:Practice
URL:/site/bmx_races/587720
END:VEVENT
END:VCALENDAR
