BEGIN:VCALENDAR
VERSION:2.0
PRODID:icalendar-ruby
CALSCALE:GREGORIAN
METHOD:PUBLISH
BEGIN:VEVENT
DTSTAMP:20260424T174110Z
UID:a428b627-00c8-4f56-a77f-341bed5af80c
DTSTART;VALUE=DATE:20250103
DTEND;VALUE=DATE:20250103
DESCRIPTION:Rusty Bowl BMX
LOCATION:1281 E Gobbi St  Ukiah CA 95482 USA
SUMMARY:Local Race Single
URL:/site/bmx_races/587682
END:VEVENT
END:VCALENDAR
