BEGIN:VCALENDAR
VERSION:2.0
PRODID:icalendar-ruby
CALSCALE:GREGORIAN
METHOD:PUBLISH
BEGIN:VEVENT
DTSTAMP:20260425T215322Z
UID:35563f3b-cef5-46f4-8d06-6bf505b2ace6
DTSTART;VALUE=DATE:20250106
DTEND;VALUE=DATE:20250106
DESCRIPTION:Naples BMX
LOCATION:4701 Golden Gate Parkway  Naples FL 34116 USA
SUMMARY:Practice
URL:/site/bmx_races/587475
END:VEVENT
END:VCALENDAR
