BEGIN:VCALENDAR
VERSION:2.0
PRODID:icalendar-ruby
CALSCALE:GREGORIAN
METHOD:PUBLISH
BEGIN:VEVENT
DTSTAMP:20260425T174019Z
UID:4d300262-52d0-4fbe-ae36-47d38650b2db
DTSTART;VALUE=DATE:20250708
DTEND;VALUE=DATE:20250708
DESCRIPTION:Westerville BMX
LOCATION:535 Park Meadow Road  Westerville OH 43081 USA
SUMMARY:Practice
URL:/site/bmx_races/587390
END:VEVENT
END:VCALENDAR
