BEGIN:VCALENDAR
VERSION:2.0
PRODID:icalendar-ruby
CALSCALE:GREGORIAN
METHOD:PUBLISH
BEGIN:VEVENT
DTSTAMP:20260424T215305Z
UID:80317054-cb3e-4a28-8ecb-5271bcdcfc97
DTSTART;VALUE=DATE:20250511
DTEND;VALUE=DATE:20250511
DESCRIPTION:Westerville BMX
LOCATION:535 Park Meadow Road  Westerville OH 43081 USA
SUMMARY:Local Race Single
URL:/site/bmx_races/587366
END:VEVENT
END:VCALENDAR
