BEGIN:VCALENDAR
VERSION:2.0
PRODID:icalendar-ruby
CALSCALE:GREGORIAN
METHOD:PUBLISH
BEGIN:VEVENT
DTSTAMP:20260424T152304Z
UID:c99394c5-cd49-451b-8418-e0b6dd52841b
DTSTART;VALUE=DATE:20250709
DTEND;VALUE=DATE:20250709
DESCRIPTION:Aberdeen Hub Area BMX
LOCATION:1111 1st Ave Se  Aberdeen SD 57401 USA
SUMMARY:Local Race Single
URL:/site/bmx_races/587329
END:VEVENT
END:VCALENDAR
