BEGIN:VCALENDAR
VERSION:2.0
PRODID:icalendar-ruby
CALSCALE:GREGORIAN
METHOD:PUBLISH
BEGIN:VEVENT
DTSTAMP:20260425T015449Z
UID:8e8400db-75dd-4bde-b3c8-a6ea12574df4
DTSTART;VALUE=DATE:20250104
DTEND;VALUE=DATE:20250104
DESCRIPTION:Hardesty National BMX Stadium
LOCATION:490 N Lansing Ave  Tulsa OK 74120 USA
SUMMARY:Local Race Single
URL:/site/bmx_races/587298
END:VEVENT
END:VCALENDAR
