BEGIN:VCALENDAR
VERSION:2.0
PRODID:icalendar-ruby
CALSCALE:GREGORIAN
METHOD:PUBLISH
BEGIN:VEVENT
DTSTAMP:20260425T110133Z
UID:3b2b0891-a5e7-4290-bb0a-1ca7e5f1a7df
DTSTART;VALUE=DATE:20251030
DTEND;VALUE=DATE:20251030
DESCRIPTION:TRI CITY BMX
LOCATION:3710 30th Ave  Kearney NE 68845 USA
SUMMARY:Practice
URL:/site/bmx_races/587290
END:VEVENT
END:VCALENDAR
