BEGIN:VCALENDAR
VERSION:2.0
PRODID:icalendar-ruby
CALSCALE:GREGORIAN
METHOD:PUBLISH
BEGIN:VEVENT
DTSTAMP:20260425T131327Z
UID:292e8fcb-956b-46a7-a896-c05453921070
DTSTART;VALUE=DATE:20251108
DTEND;VALUE=DATE:20251108
DESCRIPTION:Blanchard Woods BMX
LOCATION:4600 Blanchard Woods Drive  Evans GA 30809 USA
SUMMARY:Local Race Single
URL:/site/bmx_races/587203
END:VEVENT
END:VCALENDAR
