BEGIN:VCALENDAR
VERSION:2.0
PRODID:icalendar-ruby
CALSCALE:GREGORIAN
METHOD:PUBLISH
BEGIN:VEVENT
DTSTAMP:20260425T190919Z
UID:056cdc36-180c-4925-9b6c-680c672392f5
DTSTART;VALUE=DATE:20250719
DTEND;VALUE=DATE:20250719
DESCRIPTION:Blanchard Woods BMX
LOCATION:4600 Blanchard Woods Drive  Evans GA 30809 USA
SUMMARY:Local Race Single
URL:/site/bmx_races/587187
END:VEVENT
END:VCALENDAR
