BEGIN:VCALENDAR
VERSION:2.0
PRODID:icalendar-ruby
CALSCALE:GREGORIAN
METHOD:PUBLISH
BEGIN:VEVENT
DTSTAMP:20260425T234541Z
UID:1a219aa8-ca0c-432d-bb4c-1669674c66fd
DTSTART;VALUE=DATE:20250405
DTEND;VALUE=DATE:20250405
DESCRIPTION:Blanchard Woods BMX
LOCATION:4600 Blanchard Woods Drive  Evans GA 30809 USA
SUMMARY:Local Race Single
URL:/site/bmx_races/587173
END:VEVENT
END:VCALENDAR
