BEGIN:VCALENDAR
VERSION:2.0
PRODID:icalendar-ruby
CALSCALE:GREGORIAN
METHOD:PUBLISH
BEGIN:VEVENT
DTSTAMP:20260425T113649Z
UID:526ff0d8-b5f3-46cf-9b0b-43f7a31cf0ba
DTSTART;VALUE=DATE:20251209
DTEND;VALUE=DATE:20251209
DESCRIPTION:Blanchard Woods BMX
LOCATION:4600 Blanchard Woods Drive  Evans GA 30809 USA
SUMMARY:Practice
URL:/site/bmx_races/587159
END:VEVENT
END:VCALENDAR
