BEGIN:VCALENDAR
VERSION:2.0
PRODID:icalendar-ruby
CALSCALE:GREGORIAN
METHOD:PUBLISH
BEGIN:VEVENT
DTSTAMP:20260425T161138Z
UID:f66c192d-dcdf-4b34-abe7-e0a0ae8fe84e
DTSTART;VALUE=DATE:20250930
DTEND;VALUE=DATE:20250930
DESCRIPTION:Blanchard Woods BMX
LOCATION:4600 Blanchard Woods Drive  Evans GA 30809 USA
SUMMARY:Practice
URL:/site/bmx_races/587139
END:VEVENT
END:VCALENDAR
