BEGIN:VCALENDAR
VERSION:2.0
PRODID:icalendar-ruby
CALSCALE:GREGORIAN
METHOD:PUBLISH
BEGIN:VEVENT
DTSTAMP:20260425T173927Z
UID:f33ca96a-85b0-489a-8336-2a0609a9ab97
DTSTART;VALUE=DATE:20250819
DTEND;VALUE=DATE:20250819
DESCRIPTION:Blanchard Woods BMX
LOCATION:4600 Blanchard Woods Drive  Evans GA 30809 USA
SUMMARY:Practice
URL:/site/bmx_races/587127
END:VEVENT
END:VCALENDAR
