BEGIN:VCALENDAR
VERSION:2.0
PRODID:icalendar-ruby
CALSCALE:GREGORIAN
METHOD:PUBLISH
BEGIN:VEVENT
DTSTAMP:20260425T234529Z
UID:38348b93-8aaf-4120-897e-79e74a345129
DTSTART;VALUE=DATE:20250417
DTEND;VALUE=DATE:20250417
DESCRIPTION:Blanchard Woods BMX
LOCATION:4600 Blanchard Woods Drive  Evans GA 30809 USA
SUMMARY:Practice
URL:/site/bmx_races/587092
END:VEVENT
END:VCALENDAR
