BEGIN:VCALENDAR
VERSION:2.0
PRODID:icalendar-ruby
CALSCALE:GREGORIAN
METHOD:PUBLISH
BEGIN:VEVENT
DTSTAMP:20260426T011240Z
UID:11621dec-7add-4596-8f13-11d0eb454ad9
DTSTART;VALUE=DATE:20250327
DTEND;VALUE=DATE:20250327
DESCRIPTION:Blanchard Woods BMX
LOCATION:4600 Blanchard Woods Drive  Evans GA 30809 USA
SUMMARY:Practice
URL:/site/bmx_races/587086
END:VEVENT
END:VCALENDAR
