BEGIN:VCALENDAR
VERSION:2.0
PRODID:icalendar-ruby
CALSCALE:GREGORIAN
METHOD:PUBLISH
BEGIN:VEVENT
DTSTAMP:20260426T024530Z
UID:853520b7-b576-4e50-9db7-0342df8096a3
DTSTART;VALUE=DATE:20250206
DTEND;VALUE=DATE:20250206
DESCRIPTION:Blanchard Woods BMX
LOCATION:4600 Blanchard Woods Drive  Evans GA 30809 USA
SUMMARY:Practice
URL:/site/bmx_races/587072
END:VEVENT
END:VCALENDAR
