BEGIN:VCALENDAR
VERSION:2.0
PRODID:icalendar-ruby
CALSCALE:GREGORIAN
METHOD:PUBLISH
BEGIN:VEVENT
DTSTAMP:20260424T094915Z
UID:de73d750-bbec-4b5f-a1e6-dcccedb3a188
DTSTART;VALUE=DATE:20250629
DTEND;VALUE=DATE:20250629
DESCRIPTION:BMX@Shoreham
LOCATION:Rt25 A & Defense Hill Rd  Shoreham NY 11786 USA
SUMMARY:Local Race Single
URL:/site/bmx_races/586954
END:VEVENT
END:VCALENDAR
