BEGIN:VCALENDAR
VERSION:2.0
PRODID:icalendar-ruby
CALSCALE:GREGORIAN
METHOD:PUBLISH
BEGIN:VEVENT
DTSTAMP:20260424T190200Z
UID:5d051303-ff94-435e-a373-02553b355051
DTSTART;VALUE=DATE:20250504
DTEND;VALUE=DATE:20250504
DESCRIPTION:BMX@Shoreham
LOCATION:Rt25 A & Defense Hill Rd  Shoreham NY 11786 USA
SUMMARY:Local Race Single
URL:/site/bmx_races/586935
END:VEVENT
END:VCALENDAR
