BEGIN:VCALENDAR
VERSION:2.0
PRODID:icalendar-ruby
CALSCALE:GREGORIAN
METHOD:PUBLISH
BEGIN:VEVENT
DTSTAMP:20260424T190236Z
UID:2a7abee3-21c9-4141-9a4b-544aa8e2d793
DTSTART;VALUE=DATE:20251217
DTEND;VALUE=DATE:20251217
DESCRIPTION:Sarasota BMX
LOCATION:1590 North Tuttle Avenue  Sarasota FL 34237 USA
SUMMARY:Clinic
URL:/site/bmx_races/586705
END:VEVENT
END:VCALENDAR
