BEGIN:VCALENDAR
VERSION:2.0
PRODID:icalendar-ruby
CALSCALE:GREGORIAN
METHOD:PUBLISH
BEGIN:VEVENT
DTSTAMP:20260424T234801Z
UID:abb4e35d-72b6-4928-bf67-8ba25220fdb9
DTSTART;VALUE=DATE:20250913
DTEND;VALUE=DATE:20250913
DESCRIPTION:Sarasota BMX
LOCATION:1590 North Tuttle Avenue  Sarasota FL 34237 USA
SUMMARY:Clinic
URL:/site/bmx_races/586624
END:VEVENT
END:VCALENDAR
