BEGIN:VCALENDAR
VERSION:2.0
PRODID:icalendar-ruby
CALSCALE:GREGORIAN
METHOD:PUBLISH
BEGIN:VEVENT
DTSTAMP:20260425T013514Z
UID:fcd7e16b-1bef-4ccd-8930-c9a55cb0a96f
DTSTART;VALUE=DATE:20250816
DTEND;VALUE=DATE:20250816
DESCRIPTION:Sarasota BMX
LOCATION:1590 North Tuttle Avenue  Sarasota FL 34237 USA
SUMMARY:Clinic
URL:/site/bmx_races/586600
END:VEVENT
END:VCALENDAR
