BEGIN:VCALENDAR
VERSION:2.0
PRODID:icalendar-ruby
CALSCALE:GREGORIAN
METHOD:PUBLISH
BEGIN:VEVENT
DTSTAMP:20260425T030631Z
UID:e701abbe-be27-4668-bd88-a49235195383
DTSTART;VALUE=DATE:20250714
DTEND;VALUE=DATE:20250714
DESCRIPTION:Sarasota BMX
LOCATION:1590 North Tuttle Avenue  Sarasota FL 34237 USA
SUMMARY:Clinic
URL:/site/bmx_races/586571
END:VEVENT
END:VCALENDAR
