BEGIN:VCALENDAR
VERSION:2.0
PRODID:icalendar-ruby
CALSCALE:GREGORIAN
METHOD:PUBLISH
BEGIN:VEVENT
DTSTAMP:20260425T030637Z
UID:3e09f3e8-8419-4bc5-86df-8af995747d3c
DTSTART;VALUE=DATE:20250705
DTEND;VALUE=DATE:20250705
DESCRIPTION:Sarasota BMX
LOCATION:1590 North Tuttle Avenue  Sarasota FL 34237 USA
SUMMARY:Clinic
URL:/site/bmx_races/586564
END:VEVENT
END:VCALENDAR
