BEGIN:VCALENDAR
VERSION:2.0
PRODID:icalendar-ruby
CALSCALE:GREGORIAN
METHOD:PUBLISH
BEGIN:VEVENT
DTSTAMP:20260425T110745Z
UID:883c2312-7f35-491e-8a59-4319c7fd6bee
DTSTART;VALUE=DATE:20250201
DTEND;VALUE=DATE:20250201
DESCRIPTION:Sarasota BMX
LOCATION:1590 North Tuttle Avenue  Sarasota FL 34237 USA
SUMMARY:Clinic
URL:/site/bmx_races/586435
END:VEVENT
END:VCALENDAR
