BEGIN:VCALENDAR
VERSION:2.0
PRODID:icalendar-ruby
CALSCALE:GREGORIAN
METHOD:PUBLISH
BEGIN:VEVENT
DTSTAMP:20260424T105800Z
UID:dcbb3b0c-b329-4364-815f-720926dc3d33
DTSTART;VALUE=DATE:20250131
DTEND;VALUE=DATE:20250131
DESCRIPTION:Sarasota BMX
LOCATION:1590 North Tuttle Avenue  Sarasota FL 34237 USA
SUMMARY:Local Race Single
URL:/site/bmx_races/586434
END:VEVENT
END:VCALENDAR
