BEGIN:VCALENDAR
VERSION:2.0
PRODID:icalendar-ruby
CALSCALE:GREGORIAN
METHOD:PUBLISH
BEGIN:VEVENT
DTSTAMP:20260424T092749Z
UID:2f67211f-d9fb-47e9-9c41-eb9a785c0b70
DTSTART;VALUE=DATE:20250213
DTEND;VALUE=DATE:20250213
DESCRIPTION:Cape Coral BMX
LOCATION:1410 Sw 6th Place  Cape Coral FL 33991 USA
SUMMARY:Local Race Single
URL:/site/bmx_races/586385
END:VEVENT
END:VCALENDAR
