BEGIN:VCALENDAR
VERSION:2.0
PRODID:icalendar-ruby
CALSCALE:GREGORIAN
METHOD:PUBLISH
BEGIN:VEVENT
DTSTAMP:20260425T002609Z
UID:01e7a2a8-9736-4419-a5fa-7e567fb8f20d
DTSTART;VALUE=DATE:20251125
DTEND;VALUE=DATE:20251125
DESCRIPTION:Southern Maryland BMX
LOCATION:26600 Budds Creek Rd  Mechanicsville MD 20659 USA
SUMMARY:Local Race Single
URL:/site/bmx_races/586289
END:VEVENT
END:VCALENDAR
