BEGIN:VCALENDAR
VERSION:2.0
PRODID:icalendar-ruby
CALSCALE:GREGORIAN
METHOD:PUBLISH
BEGIN:VEVENT
DTSTAMP:20260424T084430Z
UID:5e0134e2-a919-433b-b06c-27ed1548dd55
DTSTART;VALUE=DATE:20251002
DTEND;VALUE=DATE:20251002
DESCRIPTION:Southern Maryland BMX
LOCATION:26600 Budds Creek Rd  Mechanicsville MD 20659 USA
SUMMARY:Local Race Single
URL:/site/bmx_races/586278
END:VEVENT
END:VCALENDAR
