BEGIN:VCALENDAR
VERSION:2.0
PRODID:icalendar-ruby
CALSCALE:GREGORIAN
METHOD:PUBLISH
BEGIN:VEVENT
DTSTAMP:20260424T234234Z
UID:031efa21-127a-423d-8196-6330eb494175
DTSTART;VALUE=DATE:20250315
DTEND;VALUE=DATE:20250315
DESCRIPTION:Southern Maryland BMX
LOCATION:26600 Budds Creek Rd  Mechanicsville MD 20659 USA
SUMMARY:Local Race Single
URL:/site/bmx_races/586226
END:VEVENT
END:VCALENDAR
