BEGIN:VCALENDAR
VERSION:2.0
PRODID:icalendar-ruby
CALSCALE:GREGORIAN
METHOD:PUBLISH
BEGIN:VEVENT
DTSTAMP:20260425T033529Z
UID:262feffb-6593-4555-b956-6988bf838df3
DTSTART;VALUE=DATE:20250902
DTEND;VALUE=DATE:20250902
DESCRIPTION:Spartanburg BMX
LOCATION:1160 Old Furnace Rd  Boiling Springs SC 29316 USA
SUMMARY:Practice
URL:/site/bmx_races/586179
END:VEVENT
END:VCALENDAR
