BEGIN:VCALENDAR
VERSION:2.0
PRODID:icalendar-ruby
CALSCALE:GREGORIAN
METHOD:PUBLISH
BEGIN:VEVENT
DTSTAMP:20260425T115228Z
UID:735eee3c-e48d-49ef-b654-8826d09b22e4
DTSTART;VALUE=DATE:20250603
DTEND;VALUE=DATE:20250603
DESCRIPTION:Spartanburg BMX
LOCATION:1160 Old Furnace Rd  Boiling Springs SC 29316 USA
SUMMARY:Practice
URL:/site/bmx_races/586159
END:VEVENT
END:VCALENDAR
