BEGIN:VCALENDAR
VERSION:2.0
PRODID:icalendar-ruby
CALSCALE:GREGORIAN
METHOD:PUBLISH
BEGIN:VEVENT
DTSTAMP:20260425T144249Z
UID:105104f0-e796-40a6-8584-f34802b8d2a7
DTSTART;VALUE=DATE:20250520
DTEND;VALUE=DATE:20250520
DESCRIPTION:Spartanburg BMX
LOCATION:1160 Old Furnace Rd  Boiling Springs SC 29316 USA
SUMMARY:Practice
URL:/site/bmx_races/586153
END:VEVENT
END:VCALENDAR
