BEGIN:VCALENDAR
VERSION:2.0
PRODID:icalendar-ruby
CALSCALE:GREGORIAN
METHOD:PUBLISH
BEGIN:VEVENT
DTSTAMP:20260425T161158Z
UID:d54c8e75-59ae-4719-b661-dc25660e4472
DTSTART;VALUE=DATE:20250408
DTEND;VALUE=DATE:20250408
DESCRIPTION:Spartanburg BMX
LOCATION:1160 Old Furnace Rd  Boiling Springs SC 29316 USA
SUMMARY:Practice
URL:/site/bmx_races/586135
END:VEVENT
END:VCALENDAR
