BEGIN:VCALENDAR
VERSION:2.0
PRODID:icalendar-ruby
CALSCALE:GREGORIAN
METHOD:PUBLISH
BEGIN:VEVENT
DTSTAMP:20260425T111008Z
UID:1d375d15-c1d9-4bc1-9a9c-3347c7d14e0a
DTSTART;VALUE=DATE:20241208
DTEND;VALUE=DATE:20241208
DESCRIPTION:Fernley BMX
LOCATION:212 Mull Ln  Fernley NV 89408 USA
SUMMARY:Local Race Single
URL:/site/bmx_races/586075
END:VEVENT
END:VCALENDAR
