BEGIN:VCALENDAR
VERSION:2.0
PRODID:icalendar-ruby
CALSCALE:GREGORIAN
METHOD:PUBLISH
BEGIN:VEVENT
DTSTAMP:20260426T005812Z
UID:5e970223-e75e-41b4-9343-4b5f75b6da15
DTSTART;VALUE=DATE:20241207
DTEND;VALUE=DATE:20241207
DESCRIPTION:East Moline BMX
LOCATION:1930 Avenue Of The Cities  East Moline IL 61241 USA
SUMMARY:Local Race Single
URL:/site/bmx_races/586073
END:VEVENT
END:VCALENDAR
