BEGIN:VCALENDAR
VERSION:2.0
PRODID:icalendar-ruby
CALSCALE:GREGORIAN
METHOD:PUBLISH
BEGIN:VEVENT
DTSTAMP:20260426T042106Z
UID:4491bc64-2bb8-407a-8343-a4e96cd43ea2
DTSTART;VALUE=DATE:20251023
DTEND;VALUE=DATE:20251023
DESCRIPTION:County Line BMX
LOCATION:8560 South Colorado Blvd  Centennial CO 80126 USA
SUMMARY:Practice
URL:/site/bmx_races/585960
END:VEVENT
END:VCALENDAR
