BEGIN:VCALENDAR
VERSION:2.0
PRODID:icalendar-ruby
CALSCALE:GREGORIAN
METHOD:PUBLISH
BEGIN:VEVENT
DTSTAMP:20260424T215450Z
UID:d950d197-fb29-40b1-8fd5-ce191479ee8b
DTSTART;VALUE=DATE:20250222
DTEND;VALUE=DATE:20250222
DESCRIPTION:Goodyear BMX Raceway
LOCATION:15660 W Roeser Rd  Goodyear AZ 85338 USA
SUMMARY:Local Race Single
URL:/site/bmx_races/585843
END:VEVENT
END:VCALENDAR
