BEGIN:VCALENDAR
VERSION:2.0
PRODID:icalendar-ruby
CALSCALE:GREGORIAN
METHOD:PUBLISH
BEGIN:VEVENT
DTSTAMP:20260426T011307Z
UID:bda4d87b-0a71-4df5-9565-3914728aaf8b
DTSTART;VALUE=DATE:20250208
DTEND;VALUE=DATE:20250208
DESCRIPTION:Rum River BMX
LOCATION:Isanti Parkway Northwest  Isanti MN 55040 USA
SUMMARY:Clinic
URL:/site/bmx_races/585813
END:VEVENT
END:VCALENDAR
