BEGIN:VCALENDAR
VERSION:2.0
PRODID:icalendar-ruby
CALSCALE:GREGORIAN
METHOD:PUBLISH
BEGIN:VEVENT
DTSTAMP:20260426T011307Z
UID:e949affa-4f32-4a7c-8c25-6d05e1ba18ed
DTSTART;VALUE=DATE:20250202
DTEND;VALUE=DATE:20250202
DESCRIPTION:Rum River BMX
LOCATION:Isanti Parkway Northwest  Isanti MN 55040 USA
SUMMARY:Clinic
URL:/site/bmx_races/585810
END:VEVENT
END:VCALENDAR
