BEGIN:VCALENDAR
VERSION:2.0
PRODID:icalendar-ruby
CALSCALE:GREGORIAN
METHOD:PUBLISH
BEGIN:VEVENT
DTSTAMP:20260426T025341Z
UID:26e67f6e-3d20-4974-a3dc-621ad3304c05
DTSTART;VALUE=DATE:20250106
DTEND;VALUE=DATE:20250106
DESCRIPTION:Rum River BMX
LOCATION:Isanti Parkway Northwest  Isanti MN 55040 USA
SUMMARY:Clinic
URL:/site/bmx_races/585805
END:VEVENT
END:VCALENDAR
