BEGIN:VCALENDAR
VERSION:2.0
PRODID:icalendar-ruby
CALSCALE:GREGORIAN
METHOD:PUBLISH
BEGIN:VEVENT
DTSTAMP:20260424T154710Z
UID:7413d984-d06c-4201-80b4-97142593135a
DTSTART;VALUE=DATE:20251111
DTEND;VALUE=DATE:20251111
DESCRIPTION:Cowtown BMX
LOCATION:447 Haltom Rd  Ft. Worth TX 76117 USA
SUMMARY:Practice
URL:/site/bmx_races/585626
END:VEVENT
END:VCALENDAR
