BEGIN:VCALENDAR
VERSION:2.0
PRODID:icalendar-ruby
CALSCALE:GREGORIAN
METHOD:PUBLISH
BEGIN:VEVENT
DTSTAMP:20260424T234817Z
UID:38e888b7-b1e7-4740-9297-c79d55f667ee
DTSTART;VALUE=DATE:20250617
DTEND;VALUE=DATE:20250617
DESCRIPTION:Cowtown BMX
LOCATION:447 Haltom Rd  Ft. Worth TX 76117 USA
SUMMARY:Practice
URL:/site/bmx_races/585563
END:VEVENT
END:VCALENDAR
