BEGIN:VCALENDAR
VERSION:2.0
PRODID:icalendar-ruby
CALSCALE:GREGORIAN
METHOD:PUBLISH
BEGIN:VEVENT
DTSTAMP:20260425T012118Z
UID:3ac9c015-1752-4b66-af3a-6d294d44fc38
DTSTART;VALUE=DATE:20250502
DTEND;VALUE=DATE:20250502
DESCRIPTION:Cowtown BMX
LOCATION:447 Haltom Rd  Ft. Worth TX 76117 USA
SUMMARY:Local Race Single
URL:/site/bmx_races/585544
END:VEVENT
END:VCALENDAR
