BEGIN:VCALENDAR
VERSION:2.0
PRODID:icalendar-ruby
CALSCALE:GREGORIAN
METHOD:PUBLISH
BEGIN:VEVENT
DTSTAMP:20260425T110837Z
UID:1ab36733-e64d-454e-9bc1-45311648a5ac
DTSTART;VALUE=DATE:20250718
DTEND;VALUE=DATE:20250718
DESCRIPTION:East Moline BMX
LOCATION:1930 Avenue Of The Cities  East Moline IL 61241 USA
SUMMARY:Local Race Single
URL:/site/bmx_races/585424
END:VEVENT
END:VCALENDAR
