BEGIN:VCALENDAR
VERSION:2.0
PRODID:icalendar-ruby
CALSCALE:GREGORIAN
METHOD:PUBLISH
BEGIN:VEVENT
DTSTAMP:20260425T013621Z
UID:a16f720b-dff3-47f3-a05c-e3176a8c569b
DTSTART;VALUE=DATE:20250608
DTEND;VALUE=DATE:20250608
DESCRIPTION:Fernley BMX
LOCATION:212 Mull Ln  Fernley NV 89408 USA
SUMMARY:Warnicke Single
URL:/site/bmx_races/585322
END:VEVENT
END:VCALENDAR
