BEGIN:VCALENDAR
VERSION:2.0
PRODID:icalendar-ruby
CALSCALE:GREGORIAN
METHOD:PUBLISH
BEGIN:VEVENT
DTSTAMP:20260425T225842Z
UID:d3ee881a-38b3-45a6-af75-d8884548a219
DTSTART;VALUE=DATE:20250221
DTEND;VALUE=DATE:20250221
DESCRIPTION:Idaho Indoor BMX
LOCATION:111 S 22nd St  Caldwell ID 83605 USA
SUMMARY:Local Race Single
URL:/site/bmx_races/585283
END:VEVENT
END:VCALENDAR
