BEGIN:VCALENDAR
VERSION:2.0
PRODID:icalendar-ruby
CALSCALE:GREGORIAN
METHOD:PUBLISH
BEGIN:VEVENT
DTSTAMP:20260425T190918Z
UID:ffcc2710-d084-4459-b169-9a29735c4f63
DTSTART;VALUE=DATE:20250803
DTEND;VALUE=DATE:20250803
DESCRIPTION:Capital City BMX
LOCATION:516 Dennis Ave  Raleigh NC 27604 USA
SUMMARY:Local Race Single
URL:/site/bmx_races/585241
END:VEVENT
END:VCALENDAR
